BEGIN:VCALENDAR
VERSION:2.0
PRODID:-//La Petite Baleen - ECPv6.14.2//NONSGML v1.0//EN
CALSCALE:GREGORIAN
METHOD:PUBLISH
X-ORIGINAL-URL:https://www.swimlpb.com
X-WR-CALDESC:Events for La Petite Baleen
REFRESH-INTERVAL;VALUE=DURATION:PT1H
X-Robots-Tag:noindex
X-PUBLISHED-TTL:PT1H
BEGIN:VTIMEZONE
TZID:UTC
BEGIN:STANDARD
TZOFFSETFROM:+0000
TZOFFSETTO:+0000
TZNAME:UTC
DTSTART:20260101T000000
END:STANDARD
END:VTIMEZONE
BEGIN:VEVENT
DTSTART;VALUE=DATE:20261009
DTEND;VALUE=DATE:20261010
DTSTAMP:20260422T114139
CREATED:20260318T162155Z
LAST-MODIFIED:20260318T162155Z
UID:3627-1791504000-1791590399@www.swimlpb.com
SUMMARY:SF Closes at 12:15 pm
DESCRIPTION: Friday\, October 9th          \nFleet Week/Blue Angels \nSF Closes at 12:15 pm (last class 11:45 am) \n*classes canceled from 1:15 am to 8:15 pm (close)
URL:https://www.swimlpb.com/event/sf-closes-at-12-15-pm-2
CATEGORIES:San Francisco, CA
END:VEVENT
BEGIN:VEVENT
DTSTART;VALUE=DATE:20261010
DTEND;VALUE=DATE:20261012
DTSTAMP:20260422T114139
CREATED:20260318T162243Z
LAST-MODIFIED:20260318T162243Z
UID:3629-1791590400-1791763199@www.swimlpb.com
SUMMARY:SF Closed (all day)
DESCRIPTION:Saturday\, October 10th – Sunday\, October 11th                  \nFleet Week/Blue Angels \nSF Closed (all day)
URL:https://www.swimlpb.com/event/sf-closed-all-day-3
CATEGORIES:San Francisco, CA
END:VEVENT
BEGIN:VEVENT
DTSTART;VALUE=DATE:20261012
DTEND;VALUE=DATE:20261013
DTSTAMP:20260422T114139
CREATED:20260115T200326Z
LAST-MODIFIED:20260115T200326Z
UID:3596-1791763200-1791849599@www.swimlpb.com
SUMMARY:Open Columbus Day
DESCRIPTION:
URL:https://www.swimlpb.com/event/open-columbus-day-2
CATEGORIES:Half Moon Bay, CA,Redwood City, CA,San Bruno, CA,San Francisco, CA
END:VEVENT
BEGIN:VEVENT
DTSTART;VALUE=DATE:20261016
DTEND;VALUE=DATE:20261017
DTSTAMP:20260422T114139
CREATED:20260318T162320Z
LAST-MODIFIED:20260318T162320Z
UID:3631-1792108800-1792195199@www.swimlpb.com
SUMMARY:HMB Closes at 4:00 pm
DESCRIPTION:Friday\, October 16th \nPumpkin Festival (Set-Up) \nHMB Closes at 4:00 pm (last class 3:30 pm) \n*classes canceled from 4:00 pm to close (8:00 pm)
URL:https://www.swimlpb.com/event/hmb-closes-at-4-00-pm-3
CATEGORIES:Half Moon Bay, CA
END:VEVENT
BEGIN:VEVENT
DTSTART;VALUE=DATE:20261017
DTEND;VALUE=DATE:20261019
DTSTAMP:20260422T114139
CREATED:20260318T162403Z
LAST-MODIFIED:20260318T162403Z
UID:3633-1792195200-1792367999@www.swimlpb.com
SUMMARY:HMB Closed (all day)
DESCRIPTION:Saturday\, October 17th – Sunday\, October 18th \nPumpkin Festival \nHMB Closed (all day)
URL:https://www.swimlpb.com/event/hmb-closed-all-day
CATEGORIES:Half Moon Bay, CA
END:VEVENT
BEGIN:VEVENT
DTSTART;VALUE=DATE:20261031
DTEND;VALUE=DATE:20261101
DTSTAMP:20260422T114139
CREATED:20240106T171405Z
LAST-MODIFIED:20250925T194813Z
UID:3193-1793404800-1793491199@www.swimlpb.com
SUMMARY:Special Hours
DESCRIPTION:We will close early on Halloween for Trick-or-Treating. \nSan Francisco\, San Bruno\, and Redwood City will close at 4:45 PM on Halloween. The last class will start at 4:15 PM. \nHalf Moon Bay will close at 4:00 PM on Halloween. The last class will start at 3:30 PM.
URL:https://www.swimlpb.com/event/special-hours-2-2026-10-31
CATEGORIES:All Locations
END:VEVENT
END:VCALENDAR