BEGIN:VCALENDAR
VERSION:2.0
PRODID:-//La Petite Baleen - ECPv6.14.2//NONSGML v1.0//EN
CALSCALE:GREGORIAN
METHOD:PUBLISH
X-WR-CALNAME:La Petite Baleen
X-ORIGINAL-URL:https://www.swimlpb.com
X-WR-CALDESC:Events for La Petite Baleen
REFRESH-INTERVAL;VALUE=DURATION:PT1H
X-Robots-Tag:noindex
X-PUBLISHED-TTL:PT1H
BEGIN:VTIMEZONE
TZID:UTC
BEGIN:STANDARD
TZOFFSETFROM:+0000
TZOFFSETTO:+0000
TZNAME:UTC
DTSTART:20230101T000000
END:STANDARD
END:VTIMEZONE
BEGIN:VEVENT
DTSTART;VALUE=DATE:20231223
DTEND;VALUE=DATE:20240106
DTSTAMP:20260421T193606
CREATED:20230810T032040Z
LAST-MODIFIED:20230810T032040Z
UID:2419-1703289600-1704499199@www.swimlpb.com
SUMMARY:Winter Break
DESCRIPTION:We will be closed for Winter Break from Dec. 23 – Jan 5. Lessons will resume on Jan. 6\, 2024. Tuition is prorated for this closure.
URL:https://www.swimlpb.com/event/winter-break-3
CATEGORIES:All Locations
END:VEVENT
BEGIN:VEVENT
DTSTART;VALUE=DATE:20240115
DTEND;VALUE=DATE:20240116
DTSTAMP:20260421T193606
CREATED:20240106T170749Z
LAST-MODIFIED:20240106T170749Z
UID:2808-1705276800-1705363199@www.swimlpb.com
SUMMARY:We're Open
DESCRIPTION:We are open on Martin Luther King Jr. Day.
URL:https://www.swimlpb.com/event/we-re-open-3
CATEGORIES:All Locations
END:VEVENT
END:VCALENDAR