BEGIN:VCALENDAR
VERSION:2.0
PRODID:-//La Petite Baleen - ECPv6.14.2//NONSGML v1.0//EN
CALSCALE:GREGORIAN
METHOD:PUBLISH
X-WR-CALNAME:La Petite Baleen
X-ORIGINAL-URL:https://www.swimlpb.com
X-WR-CALDESC:Events for La Petite Baleen
REFRESH-INTERVAL;VALUE=DURATION:PT1H
X-Robots-Tag:noindex
X-PUBLISHED-TTL:PT1H
BEGIN:VTIMEZONE
TZID:UTC
BEGIN:STANDARD
TZOFFSETFROM:+0000
TZOFFSETTO:+0000
TZNAME:UTC
DTSTART:20220101T000000
END:STANDARD
END:VTIMEZONE
BEGIN:VEVENT
DTSTART;VALUE=DATE:20220905
DTEND;VALUE=DATE:20220906
DTSTAMP:20260424T134258
CREATED:20220119T182437Z
LAST-MODIFIED:20220119T182437Z
UID:1819-1662336000-1662422399@www.swimlpb.com
SUMMARY:Closed Labor Day
DESCRIPTION:We are closed on Labor Day only. Accounts will be prorated for this closure.
URL:https://www.swimlpb.com/event/closed-labor-day-2
CATEGORIES:All Locations
END:VEVENT
BEGIN:VEVENT
DTSTART;VALUE=DATE:20220911
DTEND;VALUE=DATE:20220912
DTSTAMP:20260424T134258
CREATED:20220223T205910Z
LAST-MODIFIED:20220223T205910Z
UID:1843-1662854400-1662940799@www.swimlpb.com
SUMMARY:SF Opens at 12 PM
DESCRIPTION:LPB San Francisco will open at 12:00 PM due to the Giants Race event. Tuition will be prorated for morning swimmers.
URL:https://www.swimlpb.com/event/sf-opens-at-12-pm-3
CATEGORIES:San Francisco, CA
END:VEVENT
END:VCALENDAR