BEGIN:VCALENDAR
VERSION:2.0
PRODID:-//La Petite Baleen - ECPv6.14.2//NONSGML v1.0//EN
CALSCALE:GREGORIAN
METHOD:PUBLISH
X-ORIGINAL-URL:https://www.swimlpb.com
X-WR-CALDESC:Events for La Petite Baleen
REFRESH-INTERVAL;VALUE=DURATION:PT1H
X-Robots-Tag:noindex
X-PUBLISHED-TTL:PT1H
BEGIN:VTIMEZONE
TZID:UTC
BEGIN:STANDARD
TZOFFSETFROM:+0000
TZOFFSETTO:+0000
TZNAME:UTC
DTSTART:20220101T000000
END:STANDARD
END:VTIMEZONE
BEGIN:VEVENT
DTSTART;VALUE=DATE:20220417
DTEND;VALUE=DATE:20220418
DTSTAMP:20260424T211157
CREATED:20220119T181626Z
LAST-MODIFIED:20220119T181631Z
UID:1813-1650153600-1650239999@www.swimlpb.com
SUMMARY:Closed for Easter
DESCRIPTION:We are closed on Easter Sunday. Sunday swimmers will have their tuition prorated for this closure.
URL:https://www.swimlpb.com/event/closed-for-easter-2
CATEGORIES:All Locations
END:VEVENT
END:VCALENDAR