BEGIN:VCALENDAR
VERSION:2.0
PRODID:-//La Petite Baleen - ECPv6.14.2//NONSGML v1.0//EN
CALSCALE:GREGORIAN
METHOD:PUBLISH
X-ORIGINAL-URL:https://www.swimlpb.com
X-WR-CALDESC:Events for La Petite Baleen
REFRESH-INTERVAL;VALUE=DURATION:PT1H
X-Robots-Tag:noindex
X-PUBLISHED-TTL:PT1H
BEGIN:VTIMEZONE
TZID:UTC
BEGIN:STANDARD
TZOFFSETFROM:+0000
TZOFFSETTO:+0000
TZNAME:UTC
DTSTART:20210101T000000
END:STANDARD
END:VTIMEZONE
BEGIN:VEVENT
DTSTART;VALUE=DATE:20210531
DTEND;VALUE=DATE:20210601
DTSTAMP:20260425T141059
CREATED:20210428T165939Z
LAST-MODIFIED:20210428T165939Z
UID:1473-1622419200-1622505599@www.swimlpb.com
SUMMARY:Closed Memorial Day
DESCRIPTION:All 4 LPB locations will be closed on Monday\, May 31\, for Memorial Day. Monday swimmers will have their May tuition prorated for this closure.
URL:https://www.swimlpb.com/event/closed-memorial-day
CATEGORIES:All Locations
END:VEVENT
END:VCALENDAR