BEGIN:VCALENDAR
VERSION:2.0
PRODID:-//La Petite Baleen - ECPv6.14.2//NONSGML v1.0//EN
CALSCALE:GREGORIAN
METHOD:PUBLISH
X-ORIGINAL-URL:https://www.swimlpb.com
X-WR-CALDESC:Events for La Petite Baleen
REFRESH-INTERVAL;VALUE=DURATION:PT1H
X-Robots-Tag:noindex
X-PUBLISHED-TTL:PT1H
BEGIN:VTIMEZONE
TZID:UTC
BEGIN:STANDARD
TZOFFSETFROM:+0000
TZOFFSETTO:+0000
TZNAME:UTC
DTSTART:20210101T000000
END:STANDARD
END:VTIMEZONE
BEGIN:VEVENT
DTSTART;VALUE=DATE:20210404
DTEND;VALUE=DATE:20210405
DTSTAMP:20260425T153649
CREATED:20210318T191707Z
LAST-MODIFIED:20210319T160102Z
UID:1456-1617494400-1617580799@www.swimlpb.com
SUMMARY:Closed for Easter
DESCRIPTION:All four La Petite Baleen locations will be closed on Easter Sunday (April 4\, 2021).
URL:https://www.swimlpb.com/event/closed-for-easter
CATEGORIES:All Locations
END:VEVENT
END:VCALENDAR