BEGIN:VCALENDAR
VERSION:2.0
PRODID:-//La Petite Baleen - ECPv6.14.2//NONSGML v1.0//EN
CALSCALE:GREGORIAN
METHOD:PUBLISH
X-WR-CALNAME:La Petite Baleen
X-ORIGINAL-URL:https://www.swimlpb.com
X-WR-CALDESC:Events for La Petite Baleen
REFRESH-INTERVAL;VALUE=DURATION:PT1H
X-Robots-Tag:noindex
X-PUBLISHED-TTL:PT1H
BEGIN:VTIMEZONE
TZID:UTC
BEGIN:STANDARD
TZOFFSETFROM:+0000
TZOFFSETTO:+0000
TZNAME:UTC
DTSTART:20210101T000000
END:STANDARD
END:VTIMEZONE
BEGIN:VEVENT
DTSTART;VALUE=DATE:20210208
DTEND;VALUE=DATE:20210215
DTSTAMP:20260425T183446
CREATED:20210210T214527Z
LAST-MODIFIED:20210210T214527Z
UID:1395-1612742400-1613347199@www.swimlpb.com
SUMMARY:Valentine's Week at LPB!
DESCRIPTION:We will be handing out a little treat and Waverly Whale Valentine’s coloring page this week! Download your coloring page here: http://mailchi.mp/swimlpb/february_news_splash
URL:https://www.swimlpb.com/event/valentine-s-week-at-lpb
CATEGORIES:All Locations
END:VEVENT
BEGIN:VEVENT
DTSTART;VALUE=DATE:20210215
DTEND;VALUE=DATE:20210216
DTSTAMP:20260425T183446
CREATED:20210210T214014Z
LAST-MODIFIED:20210210T214626Z
UID:1391-1613347200-1613433599@www.swimlpb.com
SUMMARY:We're Open!
DESCRIPTION:We are OPEN Presidents’ Day!
URL:https://www.swimlpb.com/event/we-re-open
CATEGORIES:All Locations
END:VEVENT
END:VCALENDAR