BEGIN:VCALENDAR
VERSION:2.0
PRODID:-//La Petite Baleen - ECPv6.14.2//NONSGML v1.0//EN
CALSCALE:GREGORIAN
METHOD:PUBLISH
X-ORIGINAL-URL:https://www.swimlpb.com
X-WR-CALDESC:Events for La Petite Baleen
REFRESH-INTERVAL;VALUE=DURATION:PT1H
X-Robots-Tag:noindex
X-PUBLISHED-TTL:PT1H
BEGIN:VTIMEZONE
TZID:UTC
BEGIN:STANDARD
TZOFFSETFROM:+0000
TZOFFSETTO:+0000
TZNAME:UTC
DTSTART:20230101T000000
END:STANDARD
END:VTIMEZONE
BEGIN:VEVENT
DTSTART;VALUE=DATE:20231006
DTEND;VALUE=DATE:20231007
DTSTAMP:20260420T184434
CREATED:20230301T192605Z
LAST-MODIFIED:20230301T192605Z
UID:2130-1696550400-1696636799@www.swimlpb.com
SUMMARY:SF closes at 12:00 pm
DESCRIPTION:Friday\, October 6th\nFleet Week/Blue Angels event. SF closes at 12:00 pm. Classes are canceled from 11:45 am to 8:15 pm. Tuition will be prorated.
URL:https://www.swimlpb.com/event/sf-closes-at-12-00-pm-2
CATEGORIES:San Francisco, CA
END:VEVENT
BEGIN:VEVENT
DTSTART;VALUE=DATE:20231007
DTEND;VALUE=DATE:20231009
DTSTAMP:20260420T184434
CREATED:20230301T192807Z
LAST-MODIFIED:20230301T192807Z
UID:2132-1696636800-1696809599@www.swimlpb.com
SUMMARY:SF Closed
DESCRIPTION:Saturday\, October 7th – Sunday\, October 8th\nFleet Week/Blue Angels event. SF is closed all weekend. Tuition will be prorated. \n 
URL:https://www.swimlpb.com/event/sf-closed-3
CATEGORIES:San Francisco, CA
END:VEVENT
END:VCALENDAR