BEGIN:VCALENDAR
VERSION:2.0
PRODID:-//La Petite Baleen - ECPv6.14.2//NONSGML v1.0//EN
CALSCALE:GREGORIAN
METHOD:PUBLISH
X-WR-CALNAME:La Petite Baleen
X-ORIGINAL-URL:https://www.swimlpb.com
X-WR-CALDESC:Events for La Petite Baleen
REFRESH-INTERVAL;VALUE=DURATION:PT1H
X-Robots-Tag:noindex
X-PUBLISHED-TTL:PT1H
BEGIN:VTIMEZONE
TZID:UTC
BEGIN:STANDARD
TZOFFSETFROM:+0000
TZOFFSETTO:+0000
TZNAME:UTC
DTSTART:20230101T000000
END:STANDARD
END:VTIMEZONE
BEGIN:VEVENT
DTSTART;VALUE=DATE:20230723
DTEND;VALUE=DATE:20230724
DTSTAMP:20260420T232230
CREATED:20230301T192349Z
LAST-MODIFIED:20230301T192349Z
UID:2126-1690070400-1690156799@www.swimlpb.com
SUMMARY:SF opens at 12:00 pm
DESCRIPTION:Sunday\, July 23rd\nSan Francisco Marathon event. SF opens at 12:00 pm. Classes are canceled from 9:00 am to 11:45 am. Tuition will be prorated.
URL:https://www.swimlpb.com/event/sf-opens-at-12-00-pm-5
CATEGORIES:San Francisco, CA
END:VEVENT
END:VCALENDAR