BEGIN:VCALENDAR
VERSION:2.0
PRODID:-//La Petite Baleen - ECPv6.14.2//NONSGML v1.0//EN
CALSCALE:GREGORIAN
METHOD:PUBLISH
X-ORIGINAL-URL:https://www.swimlpb.com
X-WR-CALDESC:Events for La Petite Baleen
REFRESH-INTERVAL;VALUE=DURATION:PT1H
X-Robots-Tag:noindex
X-PUBLISHED-TTL:PT1H
BEGIN:VTIMEZONE
TZID:UTC
BEGIN:STANDARD
TZOFFSETFROM:+0000
TZOFFSETTO:+0000
TZNAME:UTC
DTSTART:20230101T000000
END:STANDARD
END:VTIMEZONE
BEGIN:VEVENT
DTSTART;VALUE=DATE:20230611
DTEND;VALUE=DATE:20230612
DTSTAMP:20260421T004718
CREATED:20230301T192239Z
LAST-MODIFIED:20230301T192239Z
UID:2124-1686441600-1686527999@www.swimlpb.com
SUMMARY:SF opens at 1:00 pm
DESCRIPTION:Sunday\, June 11th\nEscape from Alcatraz event. SF opens at 1:00 pm. Classes are canceled from 9:00 am to 12:45 pm. Tuition will be prorated.
URL:https://www.swimlpb.com/event/sf-opens-at-1-00-pm
CATEGORIES:San Francisco, CA
END:VEVENT
END:VCALENDAR