BEGIN:VCALENDAR
VERSION:2.0
PRODID:-//La Petite Baleen - ECPv6.14.2//NONSGML v1.0//EN
CALSCALE:GREGORIAN
METHOD:PUBLISH
X-ORIGINAL-URL:https://www.swimlpb.com
X-WR-CALDESC:Events for La Petite Baleen
REFRESH-INTERVAL;VALUE=DURATION:PT1H
X-Robots-Tag:noindex
X-PUBLISHED-TTL:PT1H
BEGIN:VTIMEZONE
TZID:UTC
BEGIN:STANDARD
TZOFFSETFROM:+0000
TZOFFSETTO:+0000
TZNAME:UTC
DTSTART:20220101T000000
END:STANDARD
END:VTIMEZONE
BEGIN:VEVENT
DTSTART;VALUE=DATE:20220821
DTEND;VALUE=DATE:20220822
DTSTAMP:20260421T160024
CREATED:20220223T205744Z
LAST-MODIFIED:20220223T205744Z
UID:1841-1661040000-1661126399@www.swimlpb.com
SUMMARY:SF Opens at 12 PM
DESCRIPTION:LPB San Francisco will open at 12:00 PM due to the Guardsman Presidio 10 event. Tuition will be prorated for morning swimmers.
URL:https://www.swimlpb.com/event/sf-opens-at-12-pm-2
CATEGORIES:San Francisco, CA
END:VEVENT
END:VCALENDAR