BEGIN:VCALENDAR
VERSION:2.0
PRODID:-//La Petite Baleen - ECPv6.14.2//NONSGML v1.0//EN
CALSCALE:GREGORIAN
METHOD:PUBLISH
X-ORIGINAL-URL:https://www.swimlpb.com
X-WR-CALDESC:Events for La Petite Baleen
REFRESH-INTERVAL;VALUE=DURATION:PT1H
X-Robots-Tag:noindex
X-PUBLISHED-TTL:PT1H
BEGIN:VTIMEZONE
TZID:UTC
BEGIN:STANDARD
TZOFFSETFROM:+0000
TZOFFSETTO:+0000
TZNAME:UTC
DTSTART:20220101T000000
END:STANDARD
END:VTIMEZONE
BEGIN:VEVENT
DTSTART;VALUE=DATE:20220605
DTEND;VALUE=DATE:20220606
DTSTAMP:20260421T184006
CREATED:20220223T205438Z
LAST-MODIFIED:20220223T205438Z
UID:1837-1654387200-1654473599@www.swimlpb.com
SUMMARY:SF Opens at 1 PM
DESCRIPTION:LPB San Francisco will open at 1:00 PM due to the Escape from Alcatraz event. Tuition will be prorated for morning swimmers.
URL:https://www.swimlpb.com/event/sf-opens-at-1-pm
CATEGORIES:San Francisco, CA
END:VEVENT
BEGIN:VEVENT
DTSTART;VALUE=DATE:20220627
DTEND;VALUE=DATE:20220628
DTSTAMP:20260421T184006
CREATED:20220525T202621Z
LAST-MODIFIED:20220525T202621Z
UID:1907-1656288000-1656374399@www.swimlpb.com
SUMMARY:SF Closed All Day
DESCRIPTION:Our San Francisco location will be closed all day on Monday\, June 27th due to a planned power outage for maintenance reasons. Monday swimmers will have their June tuition prorated for this closure.
URL:https://www.swimlpb.com/event/sf-closed-all-day-2
CATEGORIES:San Francisco, CA
END:VEVENT
END:VCALENDAR