BEGIN:VCALENDAR
VERSION:2.0
PRODID:-//La Petite Baleen - ECPv6.14.2//NONSGML v1.0//EN
CALSCALE:GREGORIAN
METHOD:PUBLISH
X-ORIGINAL-URL:https://www.swimlpb.com
X-WR-CALDESC:Events for La Petite Baleen
REFRESH-INTERVAL;VALUE=DURATION:PT1H
X-Robots-Tag:noindex
X-PUBLISHED-TTL:PT1H
BEGIN:VTIMEZONE
TZID:UTC
BEGIN:STANDARD
TZOFFSETFROM:+0000
TZOFFSETTO:+0000
TZNAME:UTC
DTSTART:20230101T000000
END:STANDARD
END:VTIMEZONE
BEGIN:VEVENT
DTSTART;VALUE=DATE:20231013
DTEND;VALUE=DATE:20231014
DTSTAMP:20260424T121259
CREATED:20230301T192940Z
LAST-MODIFIED:20230829T184644Z
UID:2134-1697155200-1697241599@www.swimlpb.com
SUMMARY:HMB Closed
DESCRIPTION:Friday\, October 13th:\nClasses canceled all day for a planned facilities update and for Pumpkin Festival event setup. Tuition will be prorated.
URL:https://www.swimlpb.com/event/hmb-closes-at-4-00-pm
CATEGORIES:Half Moon Bay, CA
END:VEVENT
BEGIN:VEVENT
DTSTART;VALUE=DATE:20231014
DTEND;VALUE=DATE:20231016
DTSTAMP:20260424T121259
CREATED:20230301T193040Z
LAST-MODIFIED:20230301T193040Z
UID:2136-1697241600-1697414399@www.swimlpb.com
SUMMARY:HMB Closed
DESCRIPTION:Saturday\, October 14th – Sunday\, October 15th\nPumpkin Festival event. HMB closed all weekend. Tuition will be prorated.
URL:https://www.swimlpb.com/event/hmb-closed-2
CATEGORIES:Half Moon Bay, CA
END:VEVENT
END:VCALENDAR