BEGIN:VCALENDAR
VERSION:2.0
PRODID:-//La Petite Baleen - ECPv6.14.2//NONSGML v1.0//EN
CALSCALE:GREGORIAN
METHOD:PUBLISH
X-WR-CALNAME:La Petite Baleen
X-ORIGINAL-URL:https://www.swimlpb.com
X-WR-CALDESC:Events for La Petite Baleen
REFRESH-INTERVAL;VALUE=DURATION:PT1H
X-Robots-Tag:noindex
X-PUBLISHED-TTL:PT1H
BEGIN:VTIMEZONE
TZID:UTC
BEGIN:STANDARD
TZOFFSETFROM:+0000
TZOFFSETTO:+0000
TZNAME:UTC
DTSTART:20240101T000000
END:STANDARD
END:VTIMEZONE
BEGIN:VEVENT
DTSTART;VALUE=DATE:20241224
DTEND;VALUE=DATE:20241226
DTSTAMP:20260420T034919
CREATED:20241211T214712Z
LAST-MODIFIED:20241211T214712Z
UID:3118-1734998400-1735171199@www.swimlpb.com
SUMMARY:All Locations Closed
DESCRIPTION:
URL:https://www.swimlpb.com/event/all-locations-closed
CATEGORIES:All Locations
END:VEVENT
BEGIN:VEVENT
DTSTART;VALUE=DATE:20241231
DTEND;VALUE=DATE:20250102
DTSTAMP:20260420T034919
CREATED:20241211T214734Z
LAST-MODIFIED:20241211T214818Z
UID:3120-1735603200-1735775999@www.swimlpb.com
SUMMARY:All Locations Closed
DESCRIPTION:
URL:https://www.swimlpb.com/event/all-locations-closed-2
CATEGORIES:All Locations
END:VEVENT
END:VCALENDAR